BEGIN:VCALENDAR
VERSION:2.0
PRODID:-//Archdiocese of Wellington - ECPv6.15.12.2//NONSGML v1.0//EN
CALSCALE:GREGORIAN
METHOD:PUBLISH
X-WR-CALNAME:Archdiocese of Wellington
X-ORIGINAL-URL:https://www.wn.catholic.org.nz
X-WR-CALDESC:Events for Archdiocese of Wellington
REFRESH-INTERVAL;VALUE=DURATION:PT1H
X-Robots-Tag:noindex
X-PUBLISHED-TTL:PT1H
BEGIN:VTIMEZONE
TZID:Pacific/Auckland
BEGIN:STANDARD
TZOFFSETFROM:+1300
TZOFFSETTO:+1200
TZNAME:NZST
DTSTART:20250405T140000
END:STANDARD
BEGIN:DAYLIGHT
TZOFFSETFROM:+1200
TZOFFSETTO:+1300
TZNAME:NZDT
DTSTART:20250927T140000
END:DAYLIGHT
BEGIN:STANDARD
TZOFFSETFROM:+1300
TZOFFSETTO:+1200
TZNAME:NZST
DTSTART:20260404T140000
END:STANDARD
BEGIN:DAYLIGHT
TZOFFSETFROM:+1200
TZOFFSETTO:+1300
TZNAME:NZDT
DTSTART:20260926T140000
END:DAYLIGHT
BEGIN:STANDARD
TZOFFSETFROM:+1300
TZOFFSETTO:+1200
TZNAME:NZST
DTSTART:20270403T140000
END:STANDARD
BEGIN:DAYLIGHT
TZOFFSETFROM:+1200
TZOFFSETTO:+1300
TZNAME:NZDT
DTSTART:20270925T140000
END:DAYLIGHT
END:VTIMEZONE
BEGIN:VEVENT
DTSTART;TZID=Pacific/Auckland:20260602T120000
DTEND;TZID=Pacific/Auckland:20260602T131500
DTSTAMP:20260420T012127
CREATED:20251216T022714Z
LAST-MODIFIED:20251216T022714Z
UID:41654-1780401600-1780406100@www.wn.catholic.org.nz
SUMMARY:Online safeguarding workshop
DESCRIPTION:Register with Kevin Plant by emailing k.plant@cadw.nz. The MS Teams link to join the workshop will be sent out two days prior to the Workshop.
URL:https://www.wn.catholic.org.nz/event/online-safeguarding-workshop-7/
LOCATION:Online\, New Zealand
ATTACH;FMTTYPE=image/jpeg:https://www.wn.catholic.org.nz/wp-content/uploads/2025/12/ADW-logo-Copy.jpg
END:VEVENT
BEGIN:VEVENT
DTSTART;VALUE=DATE:20260607
DTEND;VALUE=DATE:20260615
DTSTAMP:20260420T012127
CREATED:20251204T040807Z
LAST-MODIFIED:20251204T041258Z
UID:41560-1780790400-1781481599@www.wn.catholic.org.nz
SUMMARY:Love is a Decision - June
DESCRIPTION:The Love is a Decision marriage preparation programme is coming back for 2026! \nThe Commit / Love is a Decision programme is designed to be completed by the couple together in person\, one after the other\, in Wellington. By doing both of these courses\, couples are involved in a comprehensive programme to prepare for the Sacrament of Marriage. \nThis course is open to couples of any or mixed faith – not just Catholics. \nIf you have questions or would like to talk about any aspect of the courses\, please contact the Marriage Ministries Coordinator at marriage@wn.catholic.org.nz or on 04 496 1719.
URL:https://www.wn.catholic.org.nz/event/love-is-a-decision-june/
ATTACH;FMTTYPE=image/jpeg:https://www.wn.catholic.org.nz/wp-content/uploads/2025/12/thumbnail_Outlook-axaj5ecp-Copy.jpg
END:VEVENT
BEGIN:VEVENT
DTSTART;TZID=Pacific/Auckland:20260610T120000
DTEND;TZID=Pacific/Auckland:20260610T131500
DTSTAMP:20260420T012127
CREATED:20251216T022817Z
LAST-MODIFIED:20251216T022817Z
UID:41656-1781092800-1781097300@www.wn.catholic.org.nz
SUMMARY:Online safeguarding workshop
DESCRIPTION:Register with Kevin Plant by emailing k.plant@cadw.nz. The MS Teams link to join the workshop will be sent out two days prior to the Workshop.
URL:https://www.wn.catholic.org.nz/event/online-safeguarding-workshop-8/
LOCATION:Online\, New Zealand
ATTACH;FMTTYPE=image/jpeg:https://www.wn.catholic.org.nz/wp-content/uploads/2025/12/ADW-logo-Copy.jpg
END:VEVENT
BEGIN:VEVENT
DTSTART;TZID=Pacific/Auckland:20260623T190000
DTEND;TZID=Pacific/Auckland:20260623T201500
DTSTAMP:20260420T012127
CREATED:20251216T022947Z
LAST-MODIFIED:20251216T022947Z
UID:41658-1782241200-1782245700@www.wn.catholic.org.nz
SUMMARY:Online safeguarding workshop
DESCRIPTION:Register with Kevin Plant by emailing k.plant@cadw.nz. The MS Teams link to join the workshop will be sent out two days prior to the Workshop.
URL:https://www.wn.catholic.org.nz/event/online-safeguarding-workshop-9/
LOCATION:Online\, New Zealand
ATTACH;FMTTYPE=image/jpeg:https://www.wn.catholic.org.nz/wp-content/uploads/2025/12/ADW-logo-Copy.jpg
END:VEVENT
BEGIN:VEVENT
DTSTART;TZID=Pacific/Auckland:20260720T190000
DTEND;TZID=Pacific/Auckland:20260720T201500
DTSTAMP:20260420T012127
CREATED:20251216T023105Z
LAST-MODIFIED:20251216T023105Z
UID:41660-1784574000-1784578500@www.wn.catholic.org.nz
SUMMARY:Online safeguarding workshop
DESCRIPTION:Register with Kevin Plant by emailing k.plant@cadw.nz. The MS Teams link to join the workshop will be sent out two days prior to the Workshop.
URL:https://www.wn.catholic.org.nz/event/online-safeguarding-workshop-10/
LOCATION:Online\, New Zealand
ATTACH;FMTTYPE=image/jpeg:https://www.wn.catholic.org.nz/wp-content/uploads/2025/12/ADW-logo-Copy.jpg
END:VEVENT
BEGIN:VEVENT
DTSTART;TZID=Pacific/Auckland:20260728T190000
DTEND;TZID=Pacific/Auckland:20260728T201500
DTSTAMP:20260420T012127
CREATED:20251216T023210Z
LAST-MODIFIED:20251216T023210Z
UID:41662-1785265200-1785269700@www.wn.catholic.org.nz
SUMMARY:Online safeguarding workshop
DESCRIPTION:Register with Kevin Plant by emailing k.plant@cadw.nz. The MS Teams link to join the workshop will be sent out two days prior to the Workshop.
URL:https://www.wn.catholic.org.nz/event/online-safeguarding-workshop-11/
LOCATION:Online\, New Zealand
ATTACH;FMTTYPE=image/jpeg:https://www.wn.catholic.org.nz/wp-content/uploads/2025/12/ADW-logo-Copy.jpg
END:VEVENT
BEGIN:VEVENT
DTSTART;TZID=Pacific/Auckland:20260817T120000
DTEND;TZID=Pacific/Auckland:20260817T131500
DTSTAMP:20260420T012127
CREATED:20251216T023841Z
LAST-MODIFIED:20251216T023841Z
UID:41664-1786968000-1786972500@www.wn.catholic.org.nz
SUMMARY:Online safeguarding workshop
DESCRIPTION:Register with Kevin Plant by emailing k.plant@cadw.nz. The MS Teams link to join the workshop will be sent out two days prior to the Workshop.
URL:https://www.wn.catholic.org.nz/event/online-safeguarding-workshop-12/
LOCATION:Online\, New Zealand
ATTACH;FMTTYPE=image/jpeg:https://www.wn.catholic.org.nz/wp-content/uploads/2025/12/ADW-logo-Copy.jpg
END:VEVENT
BEGIN:VEVENT
DTSTART;TZID=Pacific/Auckland:20260824T190000
DTEND;TZID=Pacific/Auckland:20260824T201500
DTSTAMP:20260420T012127
CREATED:20251216T023957Z
LAST-MODIFIED:20251216T023957Z
UID:41666-1787598000-1787602500@www.wn.catholic.org.nz
SUMMARY:Online safeguarding workshop
DESCRIPTION:Register with Kevin Plant by emailing k.plant@cadw.nz. The MS Teams link to join the workshop will be sent out two days prior to the Workshop.
URL:https://www.wn.catholic.org.nz/event/online-safeguarding-workshop-13/
LOCATION:Online\, New Zealand
ATTACH;FMTTYPE=image/jpeg:https://www.wn.catholic.org.nz/wp-content/uploads/2025/12/ADW-logo-Copy.jpg
END:VEVENT
BEGIN:VEVENT
DTSTART;TZID=Pacific/Auckland:20260825T183000
DTEND;TZID=Pacific/Auckland:20260825T200000
DTSTAMP:20260420T012127
CREATED:20251216T024147Z
LAST-MODIFIED:20251216T024147Z
UID:41668-1787682600-1787688000@www.wn.catholic.org.nz
SUMMARY:Online safeguarding workshop
DESCRIPTION:Register with Kevin Plant by emailing k.plant@cadw.nz. The MS Teams link to join the workshop will be sent out two days prior to the Workshop.
URL:https://www.wn.catholic.org.nz/event/online-safeguarding-workshop-14/
ATTACH;FMTTYPE=image/jpeg:https://www.wn.catholic.org.nz/wp-content/uploads/2025/12/ADW-logo-Copy.jpg
END:VEVENT
BEGIN:VEVENT
DTSTART;VALUE=DATE:20260906
DTEND;VALUE=DATE:20260914
DTSTAMP:20260420T012127
CREATED:20251204T040959Z
LAST-MODIFIED:20251204T041226Z
UID:41562-1788652800-1789343999@www.wn.catholic.org.nz
SUMMARY:Love is a Decision - September
DESCRIPTION:The Love is a Decision marriage preparation programme is coming back for 2026! \nThe Commit / Love is a Decision programme is designed to be completed by the couple together in person\, one after the other\, in Wellington. By doing both of these courses\, couples are involved in a comprehensive programme to prepare for the Sacrament of Marriage. \nThis course is open to couples of any or mixed faith – not just Catholics. \nIf you have questions or would like to talk about any aspect of the courses\, please contact the Marriage Ministries Coordinator at marriage@wn.catholic.org.nz or on 04 496 1719.
URL:https://www.wn.catholic.org.nz/event/love-is-a-decision-september/
ATTACH;FMTTYPE=image/jpeg:https://www.wn.catholic.org.nz/wp-content/uploads/2025/12/thumbnail_Outlook-axaj5ecp-Copy.jpg
END:VEVENT
BEGIN:VEVENT
DTSTART;TZID=Pacific/Auckland:20260921T190000
DTEND;TZID=Pacific/Auckland:20260921T201500
DTSTAMP:20260420T012127
CREATED:20251216T024259Z
LAST-MODIFIED:20251216T024259Z
UID:41670-1790017200-1790021700@www.wn.catholic.org.nz
SUMMARY:Online safeguarding workshop
DESCRIPTION:Register with Kevin Plant by emailing k.plant@cadw.nz. The MS Teams link to join the workshop will be sent out two days prior to the Workshop.
URL:https://www.wn.catholic.org.nz/event/online-safeguarding-workshop-15/
LOCATION:Online\, New Zealand
ATTACH;FMTTYPE=image/jpeg:https://www.wn.catholic.org.nz/wp-content/uploads/2025/12/ADW-logo-Copy.jpg
END:VEVENT
BEGIN:VEVENT
DTSTART;TZID=Pacific/Auckland:20260928T120000
DTEND;TZID=Pacific/Auckland:20260928T131500
DTSTAMP:20260420T012127
CREATED:20251216T024359Z
LAST-MODIFIED:20251216T024359Z
UID:41672-1790596800-1790601300@www.wn.catholic.org.nz
SUMMARY:Online safeguarding workshop
DESCRIPTION:Register with Kevin Plant by emailing k.plant@cadw.nz. The MS Teams link to join the workshop will be sent out two days prior to the Workshop.
URL:https://www.wn.catholic.org.nz/event/online-safeguarding-workshop-16/
LOCATION:Online\, New Zealand
ATTACH;FMTTYPE=image/jpeg:https://www.wn.catholic.org.nz/wp-content/uploads/2025/12/ADW-logo-Copy.jpg
END:VEVENT
BEGIN:VEVENT
DTSTART;TZID=Pacific/Auckland:20261005T120000
DTEND;TZID=Pacific/Auckland:20261005T131500
DTSTAMP:20260420T012127
CREATED:20251216T024505Z
LAST-MODIFIED:20251216T024505Z
UID:41674-1791201600-1791206100@www.wn.catholic.org.nz
SUMMARY:Online safeguarding workshop
DESCRIPTION:Register with Kevin Plant by emailing k.plant@cadw.nz. The MS Teams link to join the workshop will be sent out two days prior to the Workshop.
URL:https://www.wn.catholic.org.nz/event/online-safeguarding-workshop-17/
LOCATION:Online\, New Zealand
ATTACH;FMTTYPE=image/jpeg:https://www.wn.catholic.org.nz/wp-content/uploads/2025/12/ADW-logo-Copy.jpg
END:VEVENT
BEGIN:VEVENT
DTSTART;TZID=Pacific/Auckland:20261027T190000
DTEND;TZID=Pacific/Auckland:20261027T201500
DTSTAMP:20260420T012127
CREATED:20251216T024600Z
LAST-MODIFIED:20251216T024600Z
UID:41676-1793127600-1793132100@www.wn.catholic.org.nz
SUMMARY:Online safeguarding workshop
DESCRIPTION:Register with Kevin Plant by emailing k.plant@cadw.nz. The MS Teams link to join the workshop will be sent out two days prior to the Workshop.
URL:https://www.wn.catholic.org.nz/event/online-safeguarding-workshop-18/
LOCATION:Online\, New Zealand
ATTACH;FMTTYPE=image/jpeg:https://www.wn.catholic.org.nz/wp-content/uploads/2025/12/ADW-logo-Copy.jpg
END:VEVENT
BEGIN:VEVENT
DTSTART;VALUE=DATE:20261101
DTEND;VALUE=DATE:20261109
DTSTAMP:20260420T012127
CREATED:20251204T041202Z
LAST-MODIFIED:20251204T041202Z
UID:41565-1793491200-1794182399@www.wn.catholic.org.nz
SUMMARY:Love is a Decision - November
DESCRIPTION:The Love is a Decision marriage preparation programme is coming back for 2026! \nThe Commit / Love is a Decision programme is designed to be completed by the couple together in person\, one after the other\, in Wellington. By doing both of these courses\, couples are involved in a comprehensive programme to prepare for the Sacrament of Marriage. \nThis course is open to couples of any or mixed faith – not just Catholics. \nIf you have questions or would like to talk about any aspect of the courses\, please contact the Marriage Ministries Coordinator at marriage@wn.catholic.org.nz or on 04 496 1719.
URL:https://www.wn.catholic.org.nz/event/love-is-a-decision-november/
ATTACH;FMTTYPE=image/jpeg:https://www.wn.catholic.org.nz/wp-content/uploads/2025/12/thumbnail_Outlook-axaj5ecp-Copy.jpg
END:VEVENT
BEGIN:VEVENT
DTSTART;TZID=Pacific/Auckland:20261123T120000
DTEND;TZID=Pacific/Auckland:20261123T131500
DTSTAMP:20260420T012127
CREATED:20251216T024707Z
LAST-MODIFIED:20251216T024707Z
UID:41678-1795435200-1795439700@www.wn.catholic.org.nz
SUMMARY:Online safeguarding workshop
DESCRIPTION:Register with Kevin Plant by emailing k.plant@cadw.nz. The MS Teams link to join the workshop will be sent out two days prior to the Workshop.
URL:https://www.wn.catholic.org.nz/event/online-safeguarding-workshop-19/
LOCATION:Online\, New Zealand
ATTACH;FMTTYPE=image/jpeg:https://www.wn.catholic.org.nz/wp-content/uploads/2025/12/ADW-logo-Copy.jpg
END:VEVENT
BEGIN:VEVENT
DTSTART;TZID=Pacific/Auckland:20261124T190000
DTEND;TZID=Pacific/Auckland:20261124T201500
DTSTAMP:20260420T012127
CREATED:20251216T024804Z
LAST-MODIFIED:20251216T024804Z
UID:41680-1795546800-1795551300@www.wn.catholic.org.nz
SUMMARY:Online safeguarding workshop
DESCRIPTION:Register with Kevin Plant by emailing k.plant@cadw.nz. The MS Teams link to join the workshop will be sent out two days prior to the Workshop.
URL:https://www.wn.catholic.org.nz/event/online-safeguarding-workshop-20/
LOCATION:Online\, New Zealand
ATTACH;FMTTYPE=image/jpeg:https://www.wn.catholic.org.nz/wp-content/uploads/2025/12/ADW-logo-Copy.jpg
END:VEVENT
END:VCALENDAR