BEGIN:VCALENDAR
VERSION:2.0
PRODID:-//Archdiocese of Wellington - ECPv6.15.12.2//NONSGML v1.0//EN
CALSCALE:GREGORIAN
METHOD:PUBLISH
X-WR-CALNAME:Archdiocese of Wellington
X-ORIGINAL-URL:https://www.wn.catholic.org.nz
X-WR-CALDESC:Events for Archdiocese of Wellington
REFRESH-INTERVAL;VALUE=DURATION:PT1H
X-Robots-Tag:noindex
X-PUBLISHED-TTL:PT1H
BEGIN:VTIMEZONE
TZID:Pacific/Auckland
BEGIN:STANDARD
TZOFFSETFROM:+1300
TZOFFSETTO:+1200
TZNAME:NZST
DTSTART:20240406T140000
END:STANDARD
BEGIN:DAYLIGHT
TZOFFSETFROM:+1200
TZOFFSETTO:+1300
TZNAME:NZDT
DTSTART:20240928T140000
END:DAYLIGHT
BEGIN:STANDARD
TZOFFSETFROM:+1300
TZOFFSETTO:+1200
TZNAME:NZST
DTSTART:20250405T140000
END:STANDARD
BEGIN:DAYLIGHT
TZOFFSETFROM:+1200
TZOFFSETTO:+1300
TZNAME:NZDT
DTSTART:20250927T140000
END:DAYLIGHT
BEGIN:STANDARD
TZOFFSETFROM:+1300
TZOFFSETTO:+1200
TZNAME:NZST
DTSTART:20260404T140000
END:STANDARD
BEGIN:DAYLIGHT
TZOFFSETFROM:+1200
TZOFFSETTO:+1300
TZNAME:NZDT
DTSTART:20260926T140000
END:DAYLIGHT
BEGIN:STANDARD
TZOFFSETFROM:+1300
TZOFFSETTO:+1200
TZNAME:NZST
DTSTART:20270403T140000
END:STANDARD
BEGIN:DAYLIGHT
TZOFFSETFROM:+1200
TZOFFSETTO:+1300
TZNAME:NZDT
DTSTART:20270925T140000
END:DAYLIGHT
END:VTIMEZONE
BEGIN:VEVENT
DTSTART;TZID=Pacific/Auckland:20260623T190000
DTEND;TZID=Pacific/Auckland:20260623T201500
DTSTAMP:20260420T133232
CREATED:20251216T022947Z
LAST-MODIFIED:20251216T022947Z
UID:41658-1782241200-1782245700@www.wn.catholic.org.nz
SUMMARY:Online safeguarding workshop
DESCRIPTION:Register with Kevin Plant by emailing k.plant@cadw.nz. The MS Teams link to join the workshop will be sent out two days prior to the Workshop.
URL:https://www.wn.catholic.org.nz/event/online-safeguarding-workshop-9/
LOCATION:Online\, New Zealand
ATTACH;FMTTYPE=image/jpeg:https://www.wn.catholic.org.nz/wp-content/uploads/2025/12/ADW-logo-Copy.jpg
END:VEVENT
BEGIN:VEVENT
DTSTART;TZID=Pacific/Auckland:20260610T120000
DTEND;TZID=Pacific/Auckland:20260610T131500
DTSTAMP:20260420T133232
CREATED:20251216T022817Z
LAST-MODIFIED:20251216T022817Z
UID:41656-1781092800-1781097300@www.wn.catholic.org.nz
SUMMARY:Online safeguarding workshop
DESCRIPTION:Register with Kevin Plant by emailing k.plant@cadw.nz. The MS Teams link to join the workshop will be sent out two days prior to the Workshop.
URL:https://www.wn.catholic.org.nz/event/online-safeguarding-workshop-8/
LOCATION:Online\, New Zealand
ATTACH;FMTTYPE=image/jpeg:https://www.wn.catholic.org.nz/wp-content/uploads/2025/12/ADW-logo-Copy.jpg
END:VEVENT
BEGIN:VEVENT
DTSTART;VALUE=DATE:20260607
DTEND;VALUE=DATE:20260615
DTSTAMP:20260420T133232
CREATED:20251204T040807Z
LAST-MODIFIED:20251204T041258Z
UID:41560-1780790400-1781481599@www.wn.catholic.org.nz
SUMMARY:Love is a Decision - June
DESCRIPTION:The Love is a Decision marriage preparation programme is coming back for 2026! \nThe Commit / Love is a Decision programme is designed to be completed by the couple together in person\, one after the other\, in Wellington. By doing both of these courses\, couples are involved in a comprehensive programme to prepare for the Sacrament of Marriage. \nThis course is open to couples of any or mixed faith – not just Catholics. \nIf you have questions or would like to talk about any aspect of the courses\, please contact the Marriage Ministries Coordinator at marriage@wn.catholic.org.nz or on 04 496 1719.
URL:https://www.wn.catholic.org.nz/event/love-is-a-decision-june/
ATTACH;FMTTYPE=image/jpeg:https://www.wn.catholic.org.nz/wp-content/uploads/2025/12/thumbnail_Outlook-axaj5ecp-Copy.jpg
END:VEVENT
BEGIN:VEVENT
DTSTART;TZID=Pacific/Auckland:20260602T120000
DTEND;TZID=Pacific/Auckland:20260602T131500
DTSTAMP:20260420T133232
CREATED:20251216T022714Z
LAST-MODIFIED:20251216T022714Z
UID:41654-1780401600-1780406100@www.wn.catholic.org.nz
SUMMARY:Online safeguarding workshop
DESCRIPTION:Register with Kevin Plant by emailing k.plant@cadw.nz. The MS Teams link to join the workshop will be sent out two days prior to the Workshop.
URL:https://www.wn.catholic.org.nz/event/online-safeguarding-workshop-7/
LOCATION:Online\, New Zealand
ATTACH;FMTTYPE=image/jpeg:https://www.wn.catholic.org.nz/wp-content/uploads/2025/12/ADW-logo-Copy.jpg
END:VEVENT
BEGIN:VEVENT
DTSTART;VALUE=DATE:20260419
DTEND;VALUE=DATE:20260420
DTSTAMP:20260420T133232
CREATED:20251118T025647Z
LAST-MODIFIED:20251118T025836Z
UID:41433-1776556800-1776643199@www.wn.catholic.org.nz
SUMMARY:Wellington South milestones
DESCRIPTION:The Catholic Parish of Wellington South is inviting former and current parishioners to a celebration of several historical milestones on Sunday\, 19 April 2026. \nThe first Catholic church\, St Francis de Sales Church\, Island Bay\, was built in 1906\, 120 years ago\, and the current church was blessed and opened on 17 April 1966\, 60 years ago. \nThe weekend will also acknowledge 100 years since the opening of the St Madeleine Sophie primary school; the forerunner of the current primary school of St Francis de Sales. A special Mass of remembrance and thanks featuring past and present priests will be followed by a lunch at the Pines Cabaret\, Houghton Bay. \nRegistrations of interest are welcomed by providing contact details at: \noffice@wellingtonsouthcatholic.org \n 
URL:https://www.wn.catholic.org.nz/event/wellington-south-milestones/
LOCATION:St Francis de Sales Catholic Church\, 173 Clyde Street\, Island Bay\, Wellington\, 6023\, New Zealand
ATTACH;FMTTYPE=image/jpeg:https://www.wn.catholic.org.nz/wp-content/uploads/2025/11/2Churches-1.jpg
END:VEVENT
BEGIN:VEVENT
DTSTART;TZID=Pacific/Auckland:20260414T190000
DTEND;TZID=Pacific/Auckland:20260414T201500
DTSTAMP:20260420T133232
CREATED:20251216T015300Z
LAST-MODIFIED:20251216T015300Z
UID:41652-1776193200-1776197700@www.wn.catholic.org.nz
SUMMARY:Online safeguarding workshop
DESCRIPTION:Register with Kevin Plant by emailing k.plant@cadw.nz. The MS Teams link to join the workshop will be sent out two days prior to the Workshop.
URL:https://www.wn.catholic.org.nz/event/online-safeguarding-workshop-6/
LOCATION:Online\, New Zealand
ATTACH;FMTTYPE=image/jpeg:https://www.wn.catholic.org.nz/wp-content/uploads/2025/12/ADW-logo-Copy.jpg
END:VEVENT
BEGIN:VEVENT
DTSTART;TZID=Pacific/Auckland:20260413T120000
DTEND;TZID=Pacific/Auckland:20260413T131500
DTSTAMP:20260420T133232
CREATED:20251216T015017Z
LAST-MODIFIED:20251216T015017Z
UID:41650-1776081600-1776086100@www.wn.catholic.org.nz
SUMMARY:Online safeguarding workshop
DESCRIPTION:Register with Kevin Plant by emailing k.plant@cadw.nz. The MS Teams link to join the workshop will be sent out two days prior to the Workshop.
URL:https://www.wn.catholic.org.nz/event/online-safeguarding-workshop-5/
LOCATION:Online\, New Zealand
ATTACH;FMTTYPE=image/jpeg:https://www.wn.catholic.org.nz/wp-content/uploads/2025/12/ADW-logo-Copy.jpg
END:VEVENT
BEGIN:VEVENT
DTSTART;TZID=Pacific/Auckland:20260401T120000
DTEND;TZID=Pacific/Auckland:20260401T131500
DTSTAMP:20260420T133232
CREATED:20251216T014851Z
LAST-MODIFIED:20251216T014851Z
UID:41648-1775044800-1775049300@www.wn.catholic.org.nz
SUMMARY:Online safeguarding workshop
DESCRIPTION:Register with Kevin Plant by emailing k.plant@cadw.nz. The MS Teams link to join the workshop will be sent out two days prior to the Workshop.
URL:https://www.wn.catholic.org.nz/event/online-safeguarding-workshop-4/
LOCATION:Online\, New Zealand
ATTACH;FMTTYPE=image/jpeg:https://www.wn.catholic.org.nz/wp-content/uploads/2025/12/ADW-logo-Copy.jpg
END:VEVENT
BEGIN:VEVENT
DTSTART;VALUE=DATE:20260327
DTEND;VALUE=DATE:20260330
DTSTAMP:20260420T133232
CREATED:20260121T025845Z
LAST-MODIFIED:20260121T025845Z
UID:41802-1774569600-1774828799@www.wn.catholic.org.nz
SUMMARY:Vocations retreat weekend
DESCRIPTION:Come along for a weekend discernment retreat for young men discerning a call to the priesthood in the Archdiocese of Wellington. \nThe retreat takes place from 27-29 March at Magnificat Retreat Centre\, Cross Creek Farm in Featherston. \nEmail Lucienne at l.hensel@cadw.nz for more information or to RSVP.
URL:https://www.wn.catholic.org.nz/event/vocations-retreat-weekend/
LOCATION:Magnificat Retreat Centre\, Cross Creek Farm\, Featherston\, 60A Cross Creek Road\,\, Western Lake\, 5773\, New Zealand
ATTACH;FMTTYPE=image/jpeg:https://www.wn.catholic.org.nz/wp-content/uploads/2026/01/616567814_1196659485972025_493942924558432835_n-Copy.jpg
END:VEVENT
BEGIN:VEVENT
DTSTART;TZID=Pacific/Auckland:20260318T193000
DTEND;TZID=Pacific/Auckland:20260318T203000
DTSTAMP:20260420T133232
CREATED:20260213T040601Z
LAST-MODIFIED:20260213T040601Z
UID:41924-1773862200-1773865800@www.wn.catholic.org.nz
SUMMARY:Caritas webinar with Archbishop Paul
DESCRIPTION:Join Archbishop Paul for a special webinar hosted by Caritas! \nOn Wednesday\, 18 March beginning at 7:30pm\, Archbishop Paul will discuss Jesus’ miracle of healing a man born blind. Through this miracle on the Sabbath\, Jesus challenges spiritual blindness and continues his focus on the dignity of the poor and marginalised. \nEveryone is welcome – we hope you can join us! \nMore info here: \nhttps://events.zoom.us/ev/AkdZ3kyF2nDnIY-i2JJQh9NXJ-bDGU_MyCdgDXa_NIcPO596y_1J~Ask2YcVK7wxcU2JmuPn-35eabc4Vh6AiSrTEOmGVGQuG8QWBYSHi-WqyXw \n 
URL:https://www.wn.catholic.org.nz/event/caritas-webinar-with-archbishop-paul/
LOCATION:Zoom\, Online\, New Zealand
ATTACH;FMTTYPE=image/png:https://www.wn.catholic.org.nz/wp-content/uploads/2026/02/18-Mar-Webinar-4-with-Archibishop-Paul-Martin-SM-_-Archibishop-of-Wellington-Copy.png
END:VEVENT
BEGIN:VEVENT
DTSTART;TZID=Pacific/Auckland:20260316T190000
DTEND;TZID=Pacific/Auckland:20260316T201500
DTSTAMP:20260420T133232
CREATED:20260202T035144Z
LAST-MODIFIED:20260202T035144Z
UID:41856-1773687600-1773692100@www.wn.catholic.org.nz
SUMMARY:Online safeguarding workshop
DESCRIPTION:Register with Kevin Plant by emailing k.plant@cadw.nz. The MS Teams link to join the workshop will be sent out two days prior to the Workshop.
URL:https://www.wn.catholic.org.nz/event/online-safeguarding-workshop-21/
LOCATION:Online\, New Zealand
ATTACH;FMTTYPE=image/jpeg:https://www.wn.catholic.org.nz/wp-content/uploads/2025/12/ADW-logo-Copy.jpg
END:VEVENT
BEGIN:VEVENT
DTSTART;TZID=Pacific/Auckland:20260316T120000
DTEND;TZID=Pacific/Auckland:20260316T131500
DTSTAMP:20260420T133232
CREATED:20251216T014706Z
LAST-MODIFIED:20251216T014706Z
UID:41646-1773662400-1773666900@www.wn.catholic.org.nz
SUMMARY:Online safeguarding workshop
DESCRIPTION:Register with Kevin Plant by emailing k.plant@cadw.nz. The MS Teams link to join the workshop will be sent out two days prior to the Workshop.
URL:https://www.wn.catholic.org.nz/event/online-safeguarding-workshop-3/
LOCATION:Online\, New Zealand
ATTACH;FMTTYPE=image/jpeg:https://www.wn.catholic.org.nz/wp-content/uploads/2025/12/ADW-logo-Copy.jpg
END:VEVENT
BEGIN:VEVENT
DTSTART;VALUE=DATE:20260301
DTEND;VALUE=DATE:20260309
DTSTAMP:20260420T133232
CREATED:20251204T040648Z
LAST-MODIFIED:20251204T041334Z
UID:41558-1772323200-1773014399@www.wn.catholic.org.nz
SUMMARY:Love is a Decision - March
DESCRIPTION:The Love is a Decision marriage preparation programme is coming back for 2026! \nThe Commit / Love is a Decision programme is designed to be completed by the couple together in person\, one after the other\, in Wellington. By doing both of these courses\, couples are involved in a comprehensive programme to prepare for the Sacrament of Marriage. \nThis course is open to couples of any or mixed faith – not just Catholics. \nIf you have questions or would like to talk about any aspect of the courses\, please contact the Marriage Ministries Coordinator at marriage@wn.catholic.org.nz or on 04 496 1719.
URL:https://www.wn.catholic.org.nz/event/love-is-a-decision-march/
ATTACH;FMTTYPE=image/jpeg:https://www.wn.catholic.org.nz/wp-content/uploads/2025/12/thumbnail_Outlook-axaj5ecp-Copy.jpg
END:VEVENT
BEGIN:VEVENT
DTSTART;TZID=Pacific/Auckland:20260221T140000
DTEND;TZID=Pacific/Auckland:20260221T160000
DTSTAMP:20260420T133232
CREATED:20260127T042618Z
LAST-MODIFIED:20260127T042618Z
UID:41846-1771682400-1771689600@www.wn.catholic.org.nz
SUMMARY:An afternoon in Rome
DESCRIPTION:Come along for an exhibition and concert with Wellington artist Julian Knap and Anna Maksymova Knap. \nThere will be a piano concert of Italian composers\, followed by the unveiling of Julian’s epic cityscape painting of Rome. \nConcert entry by donation. \nDate: Saturday\, 21 February \nTime: 2-4pm \nLocation: Sacred Heart Cathedral (40 Hill Street\, Wellington). \nFor more information visit www.exhibitionsgallery.co.nz. \nHope you can make it! \n 
URL:https://www.wn.catholic.org.nz/event/an-afternoon-in-rome/
LOCATION:Sacred Heart Cathedral\, Wellington
ATTACH;FMTTYPE=image/jpeg:https://www.wn.catholic.org.nz/wp-content/uploads/2026/01/Rome-exhibition-poster_251210_195558-1.jpg
END:VEVENT
BEGIN:VEVENT
DTSTART;TZID=Pacific/Auckland:20260221T100000
DTEND;TZID=Pacific/Auckland:20260221T140000
DTSTAMP:20260420T133232
CREATED:20260127T040053Z
LAST-MODIFIED:20260127T040538Z
UID:41837-1771668000-1771682400@www.wn.catholic.org.nz
SUMMARY:Annual Mission Fair of the Missionary Sisters of St Peter Claver
DESCRIPTION:Come along to the annual Mission Fair! \nThere will be a raffle and stalls including toys\, plants\, jewellery\, cakes\, jams\, etc. \nSaleable goods for the fair and donations are greatly appreciated\, too! \nProceeds go to purchase five plastic water tanks in Kibuye-Bondo\, Kenya and construction of toilets for Nseng-Long parish and village in Cameroon. \nDate: Saturday\, 21 February \nTime: 10.00am to 2.00pm \nLocation: The Convent grounds (1 Mersey Street\, Island Bay) \nFor more information\, contact the Sisters on (04) 383-8401. \nWe hope you can make it! \n 
URL:https://www.wn.catholic.org.nz/event/annual-mission-fair-of-the-missionary-sisters-of-st-peter-claver/
LOCATION:Missionary Sisters of St Peter Claver convent\, 1 Mersey Street\, Island Bay\, Wellington\, 6023
ATTACH;FMTTYPE=image/jpeg:https://www.wn.catholic.org.nz/wp-content/uploads/2026/01/Poster-for-Fair-26.jpg
END:VEVENT
BEGIN:VEVENT
DTSTART;TZID=Pacific/Auckland:20260218T180000
DTEND;TZID=Pacific/Auckland:20260218T190000
DTSTAMP:20260420T133232
CREATED:20260210T235811Z
LAST-MODIFIED:20260210T235911Z
UID:41903-1771437600-1771441200@www.wn.catholic.org.nz
SUMMARY:Ash Wednesday at Wellington Cathedral of St Paul
DESCRIPTION:Join on Wednesday\, 18 February for a special Ash Wednesday joint service in the Anglican Cathedral of St Paul. \nArchbishop Paul will be there\, and there will be the traditional receiving of ash on foreheads. \nDate: Wednesday\, 18 February \nTime: 6pm \nLocation: Wellington Cathedral of St Paul (2 Hill Street\, Thorndon\, Wellington 6011 – the big cathedral by the Beehive) \nEveryone is welcome. \nWe hope to see you there. \n 
URL:https://www.wn.catholic.org.nz/event/ash-wednesday-at-wellington-cathedral-of-st-paul/
ATTACH;FMTTYPE=image/jpeg:https://www.wn.catholic.org.nz/wp-content/uploads/2026/02/10000493782.jpg
END:VEVENT
BEGIN:VEVENT
DTSTART;TZID=Pacific/Auckland:20260217T173000
DTEND;TZID=Pacific/Auckland:20260217T183000
DTSTAMP:20260420T133232
CREATED:20260122T005938Z
LAST-MODIFIED:20260122T005938Z
UID:41821-1771349400-1771353000@www.wn.catholic.org.nz
SUMMARY:Catholic schools commissioning Mass - North Island
DESCRIPTION:The North Island edition of the 2026 Catholic Schools Commissioning Mass is coming up – and you’re invited! \n  \nDate: Tuesday 17 February \nTime: 5:30pm \nLocation: Sacred Heart Cathedral\, Wellington \n  \nDuring the Mass\, all who serve within our school and college communities will be commissioned and blessed in their ministries\, and professional development certification will be awarded. \nWe look forward to seeing you there. \n 
URL:https://www.wn.catholic.org.nz/event/catholic-schools-commissioning-mass-north-island-2/
LOCATION:Sacred Heart Cathedral\, Wellington
ATTACH;FMTTYPE=image/jpeg:https://www.wn.catholic.org.nz/wp-content/uploads/2026/01/Commissioning-Mass-Invitation-2026_page-00013.jpg
END:VEVENT
BEGIN:VEVENT
DTSTART;TZID=Pacific/Auckland:20260215T130000
DTEND;TZID=Pacific/Auckland:20260215T140000
DTSTAMP:20260420T133232
CREATED:20260209T041208Z
LAST-MODIFIED:20260209T041244Z
UID:41892-1771160400-1771164000@www.wn.catholic.org.nz
SUMMARY:Blessing of Samoan communities
DESCRIPTION:Join us this Sunday for a blessing of the leadership office and teams of the Samoan Communities within the chaplaincy with Archbishop Paul! \nDate: Sunday\, 15 February \nTime: 1pm \nLocation: Sacred Heart Cathedral (40 Hill Street\, Wellington 6011) \nAfter will be an afternoon tea. \nHoping you can join us.
URL:https://www.wn.catholic.org.nz/event/blessing-of-samoan-communities/
LOCATION:Sacred Heart Cathedral\, Wellington
ATTACH;FMTTYPE=image/jpeg:https://www.wn.catholic.org.nz/wp-content/uploads/2025/09/IMG_6322-Copy.jpg
END:VEVENT
BEGIN:VEVENT
DTSTART;TZID=Pacific/Auckland:20260214T173000
DTEND;TZID=Pacific/Auckland:20260214T183000
DTSTAMP:20260420T133232
CREATED:20260113T013506Z
LAST-MODIFIED:20260114T002212Z
UID:41769-1771090200-1771093800@www.wn.catholic.org.nz
SUMMARY:St. Valentine's Day Mass at Sacred Heart
DESCRIPTION:On Saturday\, 14 February\, join us at Sacred Heart Cathedral (40 Hill Street in Wellington) at 5.30pm for a special celebration for married couples. \nLooking forward to seeing you there! \n  \nBanner image: Rahul Pandit / Pexels \n 
URL:https://www.wn.catholic.org.nz/event/st-valentines-day-mass-at-sacred-heart/
LOCATION:Sacred Heart Cathedral\, Wellington
ATTACH;FMTTYPE=image/jpeg:https://www.wn.catholic.org.nz/wp-content/uploads/2026/01/pexels-rahulp9800-2861974.jpg
END:VEVENT
BEGIN:VEVENT
DTSTART;TZID=Pacific/Auckland:20260213T173000
DTEND;TZID=Pacific/Auckland:20260213T183000
DTSTAMP:20260420T133232
CREATED:20260122T005804Z
LAST-MODIFIED:20260122T005804Z
UID:41819-1771003800-1771007400@www.wn.catholic.org.nz
SUMMARY:Catholic schools commissioning Mass - South Island
DESCRIPTION:The South Island edition of the 2026 Catholic Schools Commissioning Mass is coming up – and you’re invited! \nDate: Friday 13 February \nTime: 5:30pm \nLocation: St Mary’s Church\, Blenheim \n  \nDuring the Mass\, all who serve within our school and college communities will be commissioned and blessed in their ministries\, and professional development certification will be awarded. \nWe look forward to seeing you there. \n 
URL:https://www.wn.catholic.org.nz/event/catholic-schools-commissioning-mass-south-island-2/
LOCATION:St. Mary’s Star of the Sea\, 61 Maxwell Road\, Blenheim\, Marlborough\, 7201\, New Zealand
ATTACH;FMTTYPE=image/jpeg:https://www.wn.catholic.org.nz/wp-content/uploads/2026/01/Commissioning-Mass-Invitation-2026_page-00013.jpg
END:VEVENT
BEGIN:VEVENT
DTSTART;TZID=Pacific/Auckland:20260209T120000
DTEND;TZID=Pacific/Auckland:20260209T131500
DTSTAMP:20260420T133232
CREATED:20251216T014507Z
LAST-MODIFIED:20251216T014507Z
UID:41644-1770638400-1770642900@www.wn.catholic.org.nz
SUMMARY:Online safeguarding workshop
DESCRIPTION:Register with Kevin Plant by emailing k.plant@cadw.nz. The MS Teams link to join the workshop will be sent out two days prior to the Workshop.
URL:https://www.wn.catholic.org.nz/event/online-safeguarding-workshop-2/
LOCATION:Online\, New Zealand
ATTACH;FMTTYPE=image/jpeg:https://www.wn.catholic.org.nz/wp-content/uploads/2025/12/ADW-logo-Copy.jpg
END:VEVENT
BEGIN:VEVENT
DTSTART;TZID=Pacific/Auckland:20260203T120000
DTEND;TZID=Pacific/Auckland:20260203T131500
DTSTAMP:20260420T133232
CREATED:20251216T014257Z
LAST-MODIFIED:20251216T014257Z
UID:41641-1770120000-1770124500@www.wn.catholic.org.nz
SUMMARY:Online safeguarding workshop
DESCRIPTION:Register with Kevin Plant by emailing k.plant@cadw.nz. The MS Teams link to join the workshop will be sent out two days prior to the Workshop.
URL:https://www.wn.catholic.org.nz/event/online-safeguarding-workshop/
LOCATION:Online\, New Zealand
ATTACH;FMTTYPE=image/jpeg:https://www.wn.catholic.org.nz/wp-content/uploads/2025/12/ADW-logo-Copy.jpg
END:VEVENT
BEGIN:VEVENT
DTSTART;TZID=Pacific/Auckland:20251228T100000
DTEND;TZID=Pacific/Auckland:20251228T110000
DTSTAMP:20260420T133232
CREATED:20251210T033017Z
LAST-MODIFIED:20251210T033053Z
UID:41606-1766916000-1766919600@www.wn.catholic.org.nz
SUMMARY:Closing Mass for the Year of Hope
DESCRIPTION:Everyone’s invited to a closing Mass for this special year of Jubilee! \n🌟 Date: Sunday\, 28 December \n🌟 Time: 10am \n🌟 Location: Sacred Heart Cathedral (40 Hill Street\, Wellington) \nWe hope to see as many people as possible as we mark the end of the Jubilee of Hope – and look forward to 2026.
URL:https://www.wn.catholic.org.nz/event/closing-mass-for-the-year-of-hope/
LOCATION:Sacred Heart Cathedral\, Wellington
ATTACH;FMTTYPE=image/jpeg:https://www.wn.catholic.org.nz/wp-content/uploads/2025/12/IMG_6454-Copy.jpg
END:VEVENT
BEGIN:VEVENT
DTSTART;TZID=Pacific/Auckland:20251215T200000
DTEND;TZID=Pacific/Auckland:20251223T220000
DTSTAMP:20260420T133232
CREATED:20251128T034039Z
LAST-MODIFIED:20251128T034241Z
UID:41530-1765828800-1766527200@www.wn.catholic.org.nz
SUMMARY:Cribs on Kāpiti
DESCRIPTION:Cribs on Kāpiti is back for 2025 – and you’re invited! \nPut on by Our Lady of Kāpiti Parish\, Cribs on Kāpiti brings to life Nativity scenes throughout the church. \nIt’s open from 8pm to 10pm from 15-23 December at Our Lady of Kāpiti Church (1 Presentation Way\, Paraparaumu). \nEntry is by gold coin donation or a food bank item. \nFor more information\, please email kapitiparishoffice@gmail.com. \n \n 
URL:https://www.wn.catholic.org.nz/event/cribs-on-kapiti/
LOCATION:Our Lady of Kāpiti Church\, 1 Presentation Way\, Paraparaumu\, 5032\, New Zealand
ATTACH;FMTTYPE=image/png:https://www.wn.catholic.org.nz/wp-content/uploads/2025/11/Flyer-2025-Copy.png
END:VEVENT
BEGIN:VEVENT
DTSTART;TZID=Pacific/Auckland:20251213T084500
DTEND;TZID=Pacific/Auckland:20251213T180000
DTSTAMP:20260420T133232
CREATED:20251201T035555Z
LAST-MODIFIED:20251201T035719Z
UID:41541-1765615500-1765648800@www.wn.catholic.org.nz
SUMMARY:Pilgrimage of hope
DESCRIPTION:St Francis of Assisi Ohariu Parish is hosting a special Advent pilgrimage on Saturday\, 13 December – and everyone is invited! \nBeginning at 8:45am at St Francis of Assisi Parish (37 Doctor Taylor Terrace in Johnsonville) with a karakia\, the day will include a visit to the Home of Compassion in Island Bay\, reflection\, prayer and carolling at Sacred Heart Cathedral in Thorndon\, and a vigil Mass back in Johnsonville\, followed by a shared dinner from about 6pm. \nPlease contact Robert McClean on 022 067 6655 for further information\, or if anyone needs a ride. \nIt promises to be a blessed day\, and would be wonderful to see people there.
URL:https://www.wn.catholic.org.nz/event/pilgrimage-of-hope/
LOCATION:St Francis of Assisi Parish\, Ohariu\, 37 Doctor Taylor Terrace\, Johnsonville\, Wellington\, 6037\, New Zealand
ATTACH;FMTTYPE=image/jpeg:https://www.wn.catholic.org.nz/wp-content/uploads/2025/12/A-Pilgrimage-of-Hope-Sat-13-Dec-2025-Copy.jpg
END:VEVENT
BEGIN:VEVENT
DTSTART;TZID=Pacific/Auckland:20251206T110000
DTEND;TZID=Pacific/Auckland:20251206T183000
DTSTAMP:20260420T133233
CREATED:20251117T234025Z
LAST-MODIFIED:20251117T234200Z
UID:41422-1765018800-1765045800@www.wn.catholic.org.nz
SUMMARY:St Mary's College 175th jubilee
DESCRIPTION:St Mary’s College in Wellington is turning 175 – and you’re invited to the celebrations! \nThe celebrations kick off at 11am on Saturday\, 6 December. \nThe hope is that the jubilee will bring the St Mary’s community to the whenua of where education\, learning and friendships began 175 years ago\, all the way back in 1850. \nThe outline for the day is as follows: \n11am opening of The Link\nTours of the school\nArchival display\nDecade photos\n5.30pm Mass at Sacred Heart Cathedral \nTo register please fill out the form below: \nhttps://forms.gle/qC1YmfV7N7Mq7dx27 \nWe hope to see you there!
URL:https://www.wn.catholic.org.nz/event/st-marys-college-175th-jubilee/
LOCATION:St Mary’s College\, 15 Guildford Terrace\, Wellington\, 6011\, New Zealand
ATTACH;FMTTYPE=image/png:https://www.wn.catholic.org.nz/wp-content/uploads/2025/11/4da868b4-2c11-4a2b-b835-f0f82abe2e97_wo-Copy.png
END:VEVENT
BEGIN:VEVENT
DTSTART;TZID=Pacific/Auckland:20251205T200000
DTEND;TZID=Pacific/Auckland:20251205T200000
DTSTAMP:20260420T133233
CREATED:20251125T003655Z
LAST-MODIFIED:20251125T003742Z
UID:41469-1764964800-1764964800@www.wn.catholic.org.nz
SUMMARY:Late Night Mass at Sacred Heart
DESCRIPTION:The next Late Night Mass is coming up! \nJoin us on Friday\, 5 December at Sacred Heart Cathedral (40 Hill Street in Wellington’s Thorndon). Mass begins at 8.00pm\, followed by fellowship in the foyer. Bring a plate and a friend to celebrate together in the Holy Sacrifice of the Eucharist! \nSee you there!
URL:https://www.wn.catholic.org.nz/event/late-night-mass-at-sacred-heart/
LOCATION:Sacred Heart Cathedral\, Wellington
ATTACH;FMTTYPE=image/png:https://www.wn.catholic.org.nz/wp-content/uploads/2025/11/Your-paragraph-text-1-Copy.png
END:VEVENT
BEGIN:VEVENT
DTSTART;TZID=Pacific/Auckland:20251204T180000
DTEND;TZID=Pacific/Auckland:20251204T190000
DTSTAMP:20260420T133233
CREATED:20251022T042059Z
LAST-MODIFIED:20251022T042059Z
UID:41361-1764871200-1764874800@www.wn.catholic.org.nz
SUMMARY:Adoration for young people at Sacred Heart
DESCRIPTION:Looking to attend church with people your age? Every Thursday from 6pm to 7pm there’s adoration at Sacred Heart Cathedral (40 Hill Street\, Thorndon in Wellington) specifically for young people. \nWe hope you’ll come along!
URL:https://www.wn.catholic.org.nz/event/adoration-for-young-people-at-sacred-heart-6/
LOCATION:Sacred Heart Cathedral\, Wellington
ATTACH;FMTTYPE=image/jpeg:https://www.wn.catholic.org.nz/wp-content/uploads/2025/10/YoungPeopleAdoration3.jpg
END:VEVENT
BEGIN:VEVENT
DTSTART;TZID=Pacific/Auckland:20251130T080000
DTEND;TZID=Pacific/Auckland:20251130T170000
DTSTAMP:20260420T133233
CREATED:20250918T221003Z
LAST-MODIFIED:20250918T221003Z
UID:41061-1764489600-1764522000@www.wn.catholic.org.nz
SUMMARY:First Sunday of Advent
DESCRIPTION:The Lord is coming! \nJoin us at parishes across our Archdiocese for the first Sunday in Advent – a blessed time as we await the coming of Jesus Christ at Christmas. \nEveryone is welcome at our Masses – and if you’re a regular parishioner\, consider inviting friends and family who might not know about the joy of faith in Jesus. \nWe hope to see you! \n  \nImage: o Hāta Maria\, te Matua Wahine o te Atua (Holy Mary\, Mother of God) by Damien Walker (Studio of Saint Philomena\, Rangiora)
URL:https://www.wn.catholic.org.nz/event/first-sunday-of-advent/
ATTACH;FMTTYPE=image/jpeg:https://www.wn.catholic.org.nz/wp-content/uploads/2025/09/o-Hata-Maria-te-Matua-Wahine-o-te-Atua-Holy-Mary-Mother-of-God-by-Damien-Walker-Studio-of-Saint-Philomena-Rangiora-Copy.jpg
END:VEVENT
BEGIN:VEVENT
DTSTART;TZID=Pacific/Auckland:20251127T180000
DTEND;TZID=Pacific/Auckland:20251127T190000
DTSTAMP:20260420T133233
CREATED:20251022T041945Z
LAST-MODIFIED:20251022T041945Z
UID:41359-1764266400-1764270000@www.wn.catholic.org.nz
SUMMARY:Adoration for young people at Sacred Heart
DESCRIPTION:Looking to attend church with people your age? Every Thursday from 6pm to 7pm there’s adoration at Sacred Heart Cathedral (40 Hill Street\, Thorndon in Wellington) specifically for young people. \nWe hope you’ll come along!
URL:https://www.wn.catholic.org.nz/event/adoration-for-young-people-at-sacred-heart-5/
LOCATION:Sacred Heart Cathedral\, Wellington
ATTACH;FMTTYPE=image/jpeg:https://www.wn.catholic.org.nz/wp-content/uploads/2025/10/YoungPeopleAdoration3.jpg
END:VEVENT
END:VCALENDAR