BEGIN:VCALENDAR
VERSION:2.0
PRODID:-//Archdiocese of Wellington - ECPv6.15.12.2//NONSGML v1.0//EN
CALSCALE:GREGORIAN
METHOD:PUBLISH
X-WR-CALNAME:Archdiocese of Wellington
X-ORIGINAL-URL:https://www.wn.catholic.org.nz
X-WR-CALDESC:Events for Archdiocese of Wellington
REFRESH-INTERVAL;VALUE=DURATION:PT1H
X-Robots-Tag:noindex
X-PUBLISHED-TTL:PT1H
BEGIN:VTIMEZONE
TZID:Pacific/Auckland
BEGIN:STANDARD
TZOFFSETFROM:+1300
TZOFFSETTO:+1200
TZNAME:NZST
DTSTART:20230401T140000
END:STANDARD
BEGIN:DAYLIGHT
TZOFFSETFROM:+1200
TZOFFSETTO:+1300
TZNAME:NZDT
DTSTART:20230923T140000
END:DAYLIGHT
BEGIN:STANDARD
TZOFFSETFROM:+1300
TZOFFSETTO:+1200
TZNAME:NZST
DTSTART:20240406T140000
END:STANDARD
BEGIN:DAYLIGHT
TZOFFSETFROM:+1200
TZOFFSETTO:+1300
TZNAME:NZDT
DTSTART:20240928T140000
END:DAYLIGHT
BEGIN:STANDARD
TZOFFSETFROM:+1300
TZOFFSETTO:+1200
TZNAME:NZST
DTSTART:20250405T140000
END:STANDARD
BEGIN:DAYLIGHT
TZOFFSETFROM:+1200
TZOFFSETTO:+1300
TZNAME:NZDT
DTSTART:20250927T140000
END:DAYLIGHT
BEGIN:STANDARD
TZOFFSETFROM:+1300
TZOFFSETTO:+1200
TZNAME:NZST
DTSTART:20260404T140000
END:STANDARD
BEGIN:DAYLIGHT
TZOFFSETFROM:+1200
TZOFFSETTO:+1300
TZNAME:NZDT
DTSTART:20260926T140000
END:DAYLIGHT
END:VTIMEZONE
BEGIN:VEVENT
DTSTART;VALUE=DATE:20251003
DTEND;VALUE=DATE:20251005
DTSTAMP:20260420T184620
CREATED:20250918T050551Z
LAST-MODIFIED:20250918T215943Z
UID:41025-1759449600-1759622399@www.wn.catholic.org.nz
SUMMARY:Hope and Renewal Summit (in Palmerston North)
DESCRIPTION:The Hope and Renewal Summit is designed for priests and passionate parishioners who want to see their parish come alive in mission. Whether you’re just beginning or well on your way\, this experience will help you move forward—together. \nYou’ll hear powerful\, practical talks on parish renewal and evangelisation from Bishop John Adams\, Fr James Mallon\, and Matt Regitz. \nAfter every session\, you’ll gather with your parish team (or join one at your table) to reflect\, discuss\, discern\, and apply what you’ve heard. \nAs Fr. James says\, “We spend so much time working in the parish\, we rarely get time to work on the parish.” \nThis Summit is your chance to do just that.
URL:https://www.wn.catholic.org.nz/event/hope-and-renewal-summit/
ATTACH;FMTTYPE=image/jpeg:https://www.wn.catholic.org.nz/wp-content/uploads/2025/09/Untitled2-1.jpg
END:VEVENT
BEGIN:VEVENT
DTSTART;TZID=Pacific/Auckland:20250923T193000
DTEND;TZID=Pacific/Auckland:20250923T203000
DTSTAMP:20260420T184620
CREATED:20250918T044107Z
LAST-MODIFIED:20250918T220019Z
UID:41012-1758655800-1758659400@www.wn.catholic.org.nz
SUMMARY:Holy Hour for Vocations
DESCRIPTION:Join us Tuesday\, 23 September from 7:30pm at Sacred Heart Cathedral (40 Hill Street\, Thorndon in Wellington) to pray for vocations. \nEveryone is welcome to this special time of prayer and reflection. \nWe hope to see you there.
URL:https://www.wn.catholic.org.nz/event/holy-hour-for-vocations/
LOCATION:Sacred Heart Cathedral\, Wellington
ATTACH;FMTTYPE=image/jpeg:https://www.wn.catholic.org.nz/wp-content/uploads/2025/09/HOLY-HOUR-SEpt-1.jpg
END:VEVENT
BEGIN:VEVENT
DTSTART;TZID=Pacific/Auckland:20250922T183000
DTEND;TZID=Pacific/Auckland:20250922T210000
DTSTAMP:20260420T184620
CREATED:20250918T043830Z
LAST-MODIFIED:20250918T220043Z
UID:41010-1758565800-1758574800@www.wn.catholic.org.nz
SUMMARY:Theology on Tap
DESCRIPTION:The next Theology on Tap is coming up! \nJoin Dr John Kleinsman\, from the Nathaniel Centre for Bioethics\, to hear about moral theology and current issues in modern society. \nDate: Monday\, 22 September \nTime: 6pm\, for 6:30pm start \nLocation: Sprig & Fern Thorndon (342 Tinakori Road\, Thorndon) \nHope to see you there!
URL:https://www.wn.catholic.org.nz/event/theology-on-tap/
LOCATION:Sprig & Fern Thorndon\, 342 Tinakori Road\, Thorndon\, Wellington\, 6011\, New Zealand
ATTACH;FMTTYPE=image/png:https://www.wn.catholic.org.nz/wp-content/uploads/2025/09/Catholicism-1-Copy.png
END:VEVENT
BEGIN:VEVENT
DTSTART;TZID=Pacific/Auckland:20250608T143000
DTEND;TZID=Pacific/Auckland:20250608T200000
DTSTAMP:20260420T184620
CREATED:20250516T022411Z
LAST-MODIFIED:20250516T022411Z
UID:40363-1749393000-1749412800@www.wn.catholic.org.nz
SUMMARY:Pentecost 2025
DESCRIPTION:Join us at The Metropolitan Cathedral of the Sacred Heart (40 Hill Street\, Thorndon\, Wellington 6011) on Sunday\, 8 June for Pentecost! \nFrom 2:30pm\, come meet the vibrant communities that make up our diocese\, followed by a shared dinner (please bring a plate to share if you can). Then join us for an evening Mass at 7pm on this holy day. \nEveryone is welcome. \nWe hope to see you there!
URL:https://www.wn.catholic.org.nz/event/pentecost-2025/
LOCATION:Sacred Heart Cathedral\, Wellington
END:VEVENT
BEGIN:VEVENT
DTSTART;TZID=Pacific/Auckland:20250608T080000
DTEND;TZID=Pacific/Auckland:20250608T170000
DTSTAMP:20260420T184620
CREATED:20250318T085653Z
LAST-MODIFIED:20250318T085653Z
UID:40035-1749369600-1749402000@www.wn.catholic.org.nz
SUMMARY:Love is a Decision course - 8 & 15 June. Registrations essential.
DESCRIPTION:Limited spaces available – register here: https://adwmission.infoodle.com/form_process?g=32831fae-3124-4457-a77b-6e79c8d0a9e8 \nThe ‘Love is a Decision’ programme is presented in six sessions over a period of two full Sundays in November. The exercises reflect theories/models in family culture\, personality development and relationship dynamics\, goal setting\, intimate communication and problem solving. The lived Sacrament of Marriage is woven into the activities to create a contemporary Christian understanding of the marriage relationship and its uniqueness to each couple. \nThe course gives couples the time they need to cover topics they may not have previously discussed. The course is open to couples of all faiths and beliefs. \nWhen you register for the “Love is a Decision” face to face course\, you are automatically registered for the Commit Questionnaire introductory programme. An Archdiocesan Marriage Educator will contact you directly to complete the Commit course before you attend the face to face group course “Love is a Decision”. \nThe Commit and Love is a Decision programme is designed to be completed one after the other and are held in person in Wellington. By doing both of these courses\, couples are involved in a comprehensive package in order to prepare for the Sacrament of Marriage\, with the aim being to support you in making your marriage the best possible. \nThe total cost is $130.00 per couple. \nLearn more about the programme here and see future dates: https://www.wn.catholic.org.nz/about/church-mission/marriage-ministries/ \nFor other enquiries\, email marriage@wn.catholic.org.nz
URL:https://www.wn.catholic.org.nz/event/love-is-a-decision-course-8-15-june-registrations-essential/
LOCATION:St Catherine’s College\, Wellington
END:VEVENT
BEGIN:VEVENT
DTSTART;TZID=Pacific/Auckland:20250416T193000
DTEND;TZID=Pacific/Auckland:20250416T193000
DTSTAMP:20260420T184620
CREATED:20250325T213509Z
LAST-MODIFIED:20250325T213509Z
UID:40067-1744831800-1744831800@www.wn.catholic.org.nz
SUMMARY:North Island Chrism Mass
DESCRIPTION:Come along to a special Holy Week Mass at which the sacred oils used in sacraments throughout the year\, and throughout the Archdiocese\, are consecrated. \nEveryone is welcome!
URL:https://www.wn.catholic.org.nz/event/north-island-chrism-mass/
LOCATION:Sacred Heart Cathedral\, Wellington
END:VEVENT
BEGIN:VEVENT
DTSTART;TZID=Pacific/Auckland:20250415T120000
DTEND;TZID=Pacific/Auckland:20250415T120000
DTSTAMP:20260420T184620
CREATED:20250325T214325Z
LAST-MODIFIED:20250325T214325Z
UID:40075-1744718400-1744718400@www.wn.catholic.org.nz
SUMMARY:South Island Chrism Mass
DESCRIPTION:Come along to a special Holy Week Mass at which the sacred oils used in sacraments throughout the year\, and throughout the Archdiocese\, are consecrated. \nEveryone is welcome!
URL:https://www.wn.catholic.org.nz/event/south-island-chrism-mass/
LOCATION:St. Mary’s Star of the Sea\, 61 Maxwell Road\, Blenheim\, Marlborough\, 7201\, New Zealand
END:VEVENT
BEGIN:VEVENT
DTSTART;TZID=Pacific/Auckland:20250410T180000
DTEND;TZID=Pacific/Auckland:20250410T190000
DTSTAMP:20260420T184620
CREATED:20250408T043043Z
LAST-MODIFIED:20250408T043043Z
UID:40125-1744308000-1744311600@www.wn.catholic.org.nz
SUMMARY:Adoration for Young People
DESCRIPTION:Looking to attend church with people your age? Every Thursday from 6pm to 7pm we host adoration at Sacred Heart Cathedral (40 Hill Street\, Thorndon\, Wellington 6011) specifically for young people. \nWe hope you’ll come along!
URL:https://www.wn.catholic.org.nz/event/adoration-for-young-people/
LOCATION:Sacred Heart Cathedral\, Wellington
ATTACH;FMTTYPE=image/jpeg:https://www.wn.catholic.org.nz/wp-content/uploads/2025/04/YoungPeopleAdoration3.jpg
END:VEVENT
BEGIN:VEVENT
DTSTART;TZID=Pacific/Auckland:20250406T170000
DTEND;TZID=Pacific/Auckland:20250406T180000
DTSTAMP:20260420T184620
CREATED:20250403T034447Z
LAST-MODIFIED:20250403T034447Z
UID:40106-1743958800-1743962400@www.wn.catholic.org.nz
SUMMARY:Jubilee Mass for the Sick and Healthcare Workers
DESCRIPTION:Care-givers\, nurses\, doctors\, and everyone in our community are invited to a special Mass to pray for the sick and all those who care for them. \nThe Mass\, part of our special year of Jubilee\, is at 5pm this Sunday\, April 6 at St Anne’s Church\, 22 Emmett Street\, Newtown (near Wellington Hospital). \nWe hope to see you there!
URL:https://www.wn.catholic.org.nz/event/jubilee-mass-for-the-sick-and-healthcare-workers/
LOCATION:St. Anne’s Church\, Newtown\, 22 Emmett Street\, Newtown\, Wellington\, Wellington\, 6021\, New Zealand
ATTACH;FMTTYPE=image/jpeg:https://www.wn.catholic.org.nz/wp-content/uploads/2025/04/JubileeForHealthWorkers.jpg
END:VEVENT
BEGIN:VEVENT
DTSTART;TZID=Pacific/Auckland:20250404T200000
DTEND;TZID=Pacific/Auckland:20250404T210000
DTSTAMP:20260420T184620
CREATED:20250403T033758Z
LAST-MODIFIED:20250403T033758Z
UID:40103-1743796800-1743800400@www.wn.catholic.org.nz
SUMMARY:Late Mass for Young People
DESCRIPTION:Looking for an evening Mass in the capital? \nYoung (and young at heart) people are invited to evening Masses at Sacred Heart Cathedral (40 Hill Street\, Thorndon\, Wellington 6011). They’ll be taking place the first Friday of every month. \nEveryone is welcome. \nWe hope to see you there!
URL:https://www.wn.catholic.org.nz/event/late-mass-for-young-people/
LOCATION:Sacred Heart Cathedral\, Wellington
ATTACH;FMTTYPE=image/png:https://www.wn.catholic.org.nz/wp-content/uploads/2025/03/Evening-Mass-32-1.png
END:VEVENT
BEGIN:VEVENT
DTSTART;TZID=Pacific/Auckland:20250329T100000
DTEND;TZID=Pacific/Auckland:20250329T150000
DTSTAMP:20260420T184620
CREATED:20250318T085053Z
LAST-MODIFIED:20250318T085053Z
UID:40029-1743242400-1743260400@www.wn.catholic.org.nz
SUMMARY:Forum on Housing Workshop
DESCRIPTION:Forum on Housing workshop sponsored by the Ecology Justice and Peace Commission. 10am-3pm Saturday 29 March\, St Bernadette’s Church Hall\, Naenae. \nAdequate housing\, a place to call home\, is fundamental to living a life of dignity. The Forum on Housing will build on last year’s foundations with a workshop to identify actions to build awareness\, foster collaboration\, address system level issues\, and provide practical community support. This workshop is for everyone concerned about housing issues. The Workshop will be facilitated by Chris Glaudel\, Deputy Chief Executive\, Community Housing Aotearoa. \nFor more information\, please contact Deirdre Meskill\, d.meskill@wn.catholic.org.nz; phone: 04 385 8642. A contribution of finger food to share for lunch is appreciated.
URL:https://www.wn.catholic.org.nz/event/forum-on-housing-workshop/
LOCATION:St Bernadette’s Naenae
END:VEVENT
BEGIN:VEVENT
DTSTART;TZID=Pacific/Auckland:20250324T080000
DTEND;TZID=Pacific/Auckland:20250324T170000
DTSTAMP:20260420T184620
CREATED:20250323T210745Z
LAST-MODIFIED:20250323T211657Z
UID:40052-1742803200-1742835600@www.wn.catholic.org.nz
SUMMARY:24 Hours for the Lord
DESCRIPTION:ALL ARE WELCOME to a Lenten initiative of prayer and reconciliation celebrated around the world on the eve of the 4th Sunday of Lent.\n’24 Hours for the Lord’ will begin with an Opening Liturgy at 5:30pm on Friday 28th March\, continue through the night and end with the Vigil Mass at 5:30pm on Saturday 29th March.\nParishes and communities are invited to take the lead for an hour or two during these 24 hours. Everyone is welcome to visit the Cathedral and spend some time in prayer for peace\, healing and hope in our broken world.
URL:https://www.wn.catholic.org.nz/event/24-hours-for-the-lord/
END:VEVENT
BEGIN:VEVENT
DTSTART;TZID=Pacific/Auckland:20250317T093000
DTEND;TZID=Pacific/Auckland:20250318T160000
DTSTAMP:20260420T184620
CREATED:20250118T020133Z
LAST-MODIFIED:20250118T020133Z
UID:39652-1742203800-1742313600@www.wn.catholic.org.nz
SUMMARY:Seasons for Growth Children and Young Persons’ Program Companion Training Dates
DESCRIPTION:Children and Young Persons’ Program Companion Training March 2025\nTrain FACE TO FACE to become a certified Seasons for Growth Companion in the Children and Young People’s Program. This professional development training is delivered over two consecutive days by an authorised Trainer and enables educators and professionals to facilitate the Seasons for Growth small group program in their schools or communities. \nOutcomes Seasons for Growth provides the support and space for children and young people to:Learn about how different people respond to change\, loss and grief\nUnderstand that it is normal to experience a range of grief reactions\nExplore new approaches to dealing with change\, loss and grief in their lives\nBuild communication\, decision making and problem-solving skills\nParticipate in a supportive network of peers and adults\nIntegrate their new learning into their relationships with family\, friends and others. \nTraining Invoices are due Friday 7th March 2025. \nLOCATION: NET Pasifika Hub – 2 Dudley Street\, Hutt Central\, Lower Hutt\nDATES: Monday 17th and Tuesday 18th March 2025 TIME: 9:30am until 4pm each day.\nCOST: $300 (excluding GST) + resources (see section 5 for more information on resource prices)
URL:https://www.wn.catholic.org.nz/event/seasons-for-growth-children-and-young-persons-program-companion-training-dates/
LOCATION:NET Pasifika Hub\, 2 Dudley Street\, Hutt Central
END:VEVENT
BEGIN:VEVENT
DTSTART;TZID=Pacific/Auckland:20250307T180000
DTEND;TZID=Pacific/Auckland:20250309T120000
DTSTAMP:20260420T184620
CREATED:20241220T005837Z
LAST-MODIFIED:20241220T005837Z
UID:39612-1741370400-1741521600@www.wn.catholic.org.nz
SUMMARY:Come and See Vocations Weekend
DESCRIPTION:7 March – 9 March 2025 @ Magnificat Retreat Centre\, Cross Creek Farm\, Featherston\nA weekend discernment retreat for young men discerning a call to the priesthood in the Archdiocese of Wellington \nRSVP to Lucienne at l.hensel@wn.catholic.org.nz.
URL:https://www.wn.catholic.org.nz/event/come-and-see-vocations-weekend/
LOCATION:Magnificat Retreat Centre\, Cross Creek Farm\, Featherston\, 60A Cross Creek Road\,\, Western Lake\, 5773\, New Zealand
END:VEVENT
BEGIN:VEVENT
DTSTART;TZID=Pacific/Auckland:20250304T173000
DTEND;TZID=Pacific/Auckland:20250304T183000
DTSTAMP:20260420T184620
CREATED:20250208T224955Z
LAST-MODIFIED:20250208T225030Z
UID:39710-1741109400-1741113000@www.wn.catholic.org.nz
SUMMARY:Catholic Schools Commissioning Mass: North Island
DESCRIPTION:You are warmly invited to the Archdiocese of Wellington Catholic Schools Commissioning Mass for 2025. We celebrate Eucharist and whanaungatanga\, and all who serve within each of our Catholic School and College communities are commissioned and blessed in their ministries. \nSouth Island:\n5.30pm Friday 28th February\nSt Peter Chanel’s 423 High Street\, Motueka. \nNorth Island:\n5.30pm Tuesday 4th March\nThe Cathedral of the Sacred Heart\, Hill Street\, Wellington.
URL:https://www.wn.catholic.org.nz/event/catholic-schools-commissioning-mass-north-island/
LOCATION:Sacred Heart Cathedral\, Wellington
END:VEVENT
BEGIN:VEVENT
DTSTART;VALUE=DATE:20250302
DTEND;VALUE=DATE:20250303
DTSTAMP:20260420T184620
CREATED:20241206T002622Z
LAST-MODIFIED:20241206T002622Z
UID:39425-1740873600-1740959999@www.wn.catholic.org.nz
SUMMARY:Marriage Preparation: Love is a Decision
DESCRIPTION:Registrations essential. Visit the Marriage Ministries website to register. \nThe Commit and Love is a Decision programme is designed to be completed one after the other and are held in person in Wellington. By doing both of these courses\, couples are involved in a comprehensive package in order to prepare for the Sacrament of Marriage. \nThis course is open to couples of any or mixed faith\, not only for Catholics. \nMarried couples present the in-person course and facilitate the Commit Questionnaire with you. \nThe focus of each step is about discussions between the couple\, spending time without distractions and in a relaxed neutral setting\, prompting useful discussions between you and your partner\, on important topics\, things like your unique differences as individuals\, your family of origin and early learning about relationships\, continuing to build a life together and your shared values\, maintaining healthy communications and ways of managing conflict\, and continuing to grow your already thriving relationship. \nThe Commit Questionnaire simply identifies areas that could use more discussion between you. The in-person course delves into useful topics. The couples facilitating the course will share and discuss insights of the realities\, challenges and joys of marriage in each of the areas. \nWhen you register for the “Love is a Decision” face to face course\, you are automatically registered for the Commit Questionnaire introductory programme. An Archdiocesan Marriage Educator will contact you directly to complete the Commit course before you attend the face to face group course “Love is a Decision”. The total cost is $130.00 per couple. \n  \n 
URL:https://www.wn.catholic.org.nz/event/marriage-preparation-love-is-a-decision/
LOCATION:Wellington region
END:VEVENT
BEGIN:VEVENT
DTSTART;TZID=Pacific/Auckland:20250228T173000
DTEND;TZID=Pacific/Auckland:20250228T183000
DTSTAMP:20260420T184620
CREATED:20250208T224842Z
LAST-MODIFIED:20250209T082959Z
UID:39707-1740763800-1740767400@www.wn.catholic.org.nz
SUMMARY:Catholic Schools Commissioning Mass: South Island
DESCRIPTION:You are warmly invited to the Archdiocese of Wellington Catholic\nSchools Commissioning Mass for 2025. We celebrate Eucharist and whanaungatanga\, and all who serve within each of our Catholic School and College communities are commissioned and blessed in their ministries. \nSouth Island:\n5.30pm Friday 28th February\nSt Peter Chanel’s 423 High Street\, Motueka. \nNorth Island:\n5.30pm Tuesday 4th March\nThe Cathedral of the Sacred Heart\, Hill Street\, Wellington.
URL:https://www.wn.catholic.org.nz/event/catholic-schools-commissioning-mass-south-island/
LOCATION:Our Lady of the Bays Catholic Parish\, Richmond
END:VEVENT
BEGIN:VEVENT
DTSTART;TZID=Pacific/Auckland:20250222T110000
DTEND;TZID=Pacific/Auckland:20250222T120000
DTSTAMP:20260420T184620
CREATED:20250208T224543Z
LAST-MODIFIED:20250208T224543Z
UID:39705-1740222000-1740225600@www.wn.catholic.org.nz
SUMMARY:Sacrament of Holy Orders - Ordination of Matthew White
DESCRIPTION:Sacrament of Holy Orders – Ordination of Matthew White\nMetropolitan Cathedral of the Sacred Heart\, Wellington\nSaturday\, 22 February 2025\n11.00am
URL:https://www.wn.catholic.org.nz/event/sacrament-of-holy-orders-ordination-of-matthew-white/
LOCATION:Sacred Heart Cathedral\, Wellington
END:VEVENT
BEGIN:VEVENT
DTSTART;TZID=Pacific/Auckland:20250214T180000
DTEND;TZID=Pacific/Auckland:20250214T190000
DTSTAMP:20260420T184621
CREATED:20241206T001134Z
LAST-MODIFIED:20241206T001134Z
UID:39422-1739556000-1739559600@www.wn.catholic.org.nz
SUMMARY:St Valentines Day Mass
DESCRIPTION:Friday 14 February – St Valentines Day Mass. 6pm\, Sacred Heart Cathedral.
URL:https://www.wn.catholic.org.nz/event/st-valentines-day-mass/
LOCATION:Sacred Heart Cathedral\, Wellington
END:VEVENT
BEGIN:VEVENT
DTSTART;TZID=Pacific/Auckland:20250126T100000
DTEND;TZID=Pacific/Auckland:20250126T110000
DTSTAMP:20260420T184621
CREATED:20250118T015712Z
LAST-MODIFIED:20250118T015712Z
UID:39649-1737885600-1737889200@www.wn.catholic.org.nz
SUMMARY:Year of the Jubilee Opening Mass
DESCRIPTION:Year of Jubilee \nEvery 25 Years the Church celebrates a Year of Jubilee. 2025AD has been decreed by Pope Francis to be the Year of Hope. On Christmas Eve he will open the Jubilee Doors in St Peter’s\, Rome\, and pilgrims from throughout the world are invited to go to Rome and enter the four major Basilica’s which are the destinations of a Holy Year pilgrimage. \nHere in the Archdiocese of Wellington the Holy Year will open with the celebration of Mass in our Cathedral on January 26 at the 10am Mass. \nThroughout the year there will be a series of celebrations based in our Cathedral. \nAll are welcome! \nJubilee 2025
URL:https://www.wn.catholic.org.nz/event/year-of-the-jubilee-opening-mass/
LOCATION:Sacred Heart Cathedral\, Wellington
END:VEVENT
BEGIN:VEVENT
DTSTART;VALUE=DATE:20250114
DTEND;VALUE=DATE:20250119
DTSTAMP:20260420T184621
CREATED:20241206T000933Z
LAST-MODIFIED:20241206T000933Z
UID:39419-1736812800-1737244799@www.wn.catholic.org.nz
SUMMARY:Life Teen Aotearoa Summer Camp
DESCRIPTION:14 – 18 January – Life Teen Aotearoa Summer Camp. For more information visit lifeteen.nz.
URL:https://www.wn.catholic.org.nz/event/life-teen-aotearoa-summer-camp/
END:VEVENT
BEGIN:VEVENT
DTSTART;TZID=Pacific/Auckland:20241208T090000
DTEND;TZID=Pacific/Auckland:20241208T120000
DTSTAMP:20260420T184621
CREATED:20241205T235719Z
LAST-MODIFIED:20241205T235719Z
UID:39416-1733648400-1733659200@www.wn.catholic.org.nz
SUMMARY:Come and See Vocations Morning
DESCRIPTION:Come and See Vocations Morning. Thinking about priesthood? Join us for a morning of input and reflection on the priestly vocation. Meet other young men who are discerning the call. We will hear from Fr David Dowling – former Vocations Director for the archdiocese and current Rector of Holy Cross Seminary. Starts with Mass at 9am. Level 2\, 204 Thorndon Quay Wellington.
URL:https://www.wn.catholic.org.nz/event/come-and-see-vocations-morning/
LOCATION:Archdiocese of Wellington\, 2/204 Thorndon Quay\, Wellington\, New Zealand
END:VEVENT
BEGIN:VEVENT
DTSTART;VALUE=DATE:20241207
DTEND;VALUE=DATE:20241209
DTSTAMP:20260420T184621
CREATED:20241205T235340Z
LAST-MODIFIED:20241205T235340Z
UID:39413-1733529600-1733702399@www.wn.catholic.org.nz
SUMMARY:Cathedral Restoration Bake Sale fundraiser
DESCRIPTION:Bake sale fundraiser for the ongoing restoration work of the Metropolitan Cathedral of the Sacred Heart after each weekend Mass. \n 
URL:https://www.wn.catholic.org.nz/event/cathedral-restoration-bake-sale-fundraiser/
LOCATION:Sacred Heart Cathedral\, Wellington
END:VEVENT
BEGIN:VEVENT
DTSTART;TZID=Pacific/Auckland:20241125T080000
DTEND;TZID=Pacific/Auckland:20241215T170000
DTSTAMP:20260420T184621
CREATED:20241205T234501Z
LAST-MODIFIED:20241205T234501Z
UID:39409-1732521600-1734282000@www.wn.catholic.org.nz
SUMMARY:Invitation to Host: ‘Stand up for Te Tiriti: Christian Perspectives on the Treaty Principles Bill'
DESCRIPTION:The Archdiocesan Ecology\, Justice and Peace Commission invite faith communities to host the video ‘Stand up for Te Tiriti: Christian Perspectives on the Treaty Principles Bill’. Additional information on https://www.wn.catholic.org.nz/about/commission-for-ecology/ejp-commission-activities/
URL:https://www.wn.catholic.org.nz/event/invitation-to-host-stand-up-for-te-tiriti-christian-perspectives-on-the-treaty-principles-bill/
END:VEVENT
END:VCALENDAR