BEGIN:VCALENDAR
VERSION:2.0
PRODID:-//Archdiocese of Wellington - ECPv6.15.12.2//NONSGML v1.0//EN
CALSCALE:GREGORIAN
METHOD:PUBLISH
X-WR-CALNAME:Archdiocese of Wellington
X-ORIGINAL-URL:https://www.wn.catholic.org.nz
X-WR-CALDESC:Events for Archdiocese of Wellington
REFRESH-INTERVAL;VALUE=DURATION:PT1H
X-Robots-Tag:noindex
X-PUBLISHED-TTL:PT1H
BEGIN:VTIMEZONE
TZID:Pacific/Auckland
BEGIN:STANDARD
TZOFFSETFROM:+1300
TZOFFSETTO:+1200
TZNAME:NZST
DTSTART:20240406T140000
END:STANDARD
BEGIN:DAYLIGHT
TZOFFSETFROM:+1200
TZOFFSETTO:+1300
TZNAME:NZDT
DTSTART:20240928T140000
END:DAYLIGHT
BEGIN:STANDARD
TZOFFSETFROM:+1300
TZOFFSETTO:+1200
TZNAME:NZST
DTSTART:20250405T140000
END:STANDARD
BEGIN:DAYLIGHT
TZOFFSETFROM:+1200
TZOFFSETTO:+1300
TZNAME:NZDT
DTSTART:20250927T140000
END:DAYLIGHT
BEGIN:STANDARD
TZOFFSETFROM:+1300
TZOFFSETTO:+1200
TZNAME:NZST
DTSTART:20260404T140000
END:STANDARD
BEGIN:DAYLIGHT
TZOFFSETFROM:+1200
TZOFFSETTO:+1300
TZNAME:NZDT
DTSTART:20260926T140000
END:DAYLIGHT
END:VTIMEZONE
BEGIN:VEVENT
DTSTART;TZID=Pacific/Auckland:20250214T180000
DTEND;TZID=Pacific/Auckland:20250214T190000
DTSTAMP:20260420T130638
CREATED:20241206T001134Z
LAST-MODIFIED:20241206T001134Z
UID:39422-1739556000-1739559600@www.wn.catholic.org.nz
SUMMARY:St Valentines Day Mass
DESCRIPTION:Friday 14 February – St Valentines Day Mass. 6pm\, Sacred Heart Cathedral.
URL:https://www.wn.catholic.org.nz/event/st-valentines-day-mass/
LOCATION:Sacred Heart Cathedral\, Wellington
END:VEVENT
BEGIN:VEVENT
DTSTART;TZID=Pacific/Auckland:20250222T110000
DTEND;TZID=Pacific/Auckland:20250222T120000
DTSTAMP:20260420T130638
CREATED:20250208T224543Z
LAST-MODIFIED:20250208T224543Z
UID:39705-1740222000-1740225600@www.wn.catholic.org.nz
SUMMARY:Sacrament of Holy Orders - Ordination of Matthew White
DESCRIPTION:Sacrament of Holy Orders – Ordination of Matthew White\nMetropolitan Cathedral of the Sacred Heart\, Wellington\nSaturday\, 22 February 2025\n11.00am
URL:https://www.wn.catholic.org.nz/event/sacrament-of-holy-orders-ordination-of-matthew-white/
LOCATION:Sacred Heart Cathedral\, Wellington
END:VEVENT
BEGIN:VEVENT
DTSTART;TZID=Pacific/Auckland:20250228T173000
DTEND;TZID=Pacific/Auckland:20250228T183000
DTSTAMP:20260420T130638
CREATED:20250208T224842Z
LAST-MODIFIED:20250209T082959Z
UID:39707-1740763800-1740767400@www.wn.catholic.org.nz
SUMMARY:Catholic Schools Commissioning Mass: South Island
DESCRIPTION:You are warmly invited to the Archdiocese of Wellington Catholic\nSchools Commissioning Mass for 2025. We celebrate Eucharist and whanaungatanga\, and all who serve within each of our Catholic School and College communities are commissioned and blessed in their ministries. \nSouth Island:\n5.30pm Friday 28th February\nSt Peter Chanel’s 423 High Street\, Motueka. \nNorth Island:\n5.30pm Tuesday 4th March\nThe Cathedral of the Sacred Heart\, Hill Street\, Wellington.
URL:https://www.wn.catholic.org.nz/event/catholic-schools-commissioning-mass-south-island/
LOCATION:Our Lady of the Bays Catholic Parish\, Richmond
END:VEVENT
END:VCALENDAR